BEGIN:VCALENDAR
VERSION:2.0
PRODID:-//eventon.com NONSGML v1.0//EN
BEGIN:VEVENT
UID:69e6e93d705e2
DTSTAMP:20260421T110429
DTSTART:20230323T103000Z
DTEND:20230323T120000Z
LOCATION:SpiceBox Organics Caine Road 137 Caine Road
SUMMARY:Easy Vegetarian Canapés with The Veggie Wifey
DESCRIPTION: Divya Butani\,  recipe developer\,  food writer and creator of TheVeggieWifey.com is teaching how to make easy vegetarian canapés when hosting in your homes!The class will teach you how to make 4 different types of individually plated vegetarian fusion canapés that look and taste delicious. For two nights only23rd & 24th[..]
URL:https://spiceboxorganics.com/events/theveggiewifeymar23/
END:VEVENT
END:VCALENDAR